BEGIN:VCALENDAR
VERSION:2.0
PRODID:-//Global Marina Institute - ECPv6.15.15//NONSGML v1.0//EN
CALSCALE:GREGORIAN
METHOD:PUBLISH
X-WR-CALNAME:Global Marina Institute
X-ORIGINAL-URL:https://www.globalmarinainstitute.net
X-WR-CALDESC:Events for Global Marina Institute
REFRESH-INTERVAL;VALUE=DURATION:PT1H
X-Robots-Tag:noindex
X-PUBLISHED-TTL:PT1H
BEGIN:VTIMEZONE
TZID:Europe/London
BEGIN:DAYLIGHT
TZOFFSETFROM:+0000
TZOFFSETTO:+0100
TZNAME:BST
DTSTART:20230326T010000
END:DAYLIGHT
BEGIN:STANDARD
TZOFFSETFROM:+0100
TZOFFSETTO:+0000
TZNAME:GMT
DTSTART:20231029T010000
END:STANDARD
BEGIN:DAYLIGHT
TZOFFSETFROM:+0000
TZOFFSETTO:+0100
TZNAME:BST
DTSTART:20240331T010000
END:DAYLIGHT
BEGIN:STANDARD
TZOFFSETFROM:+0100
TZOFFSETTO:+0000
TZNAME:GMT
DTSTART:20241027T010000
END:STANDARD
BEGIN:DAYLIGHT
TZOFFSETFROM:+0000
TZOFFSETTO:+0100
TZNAME:BST
DTSTART:20250330T010000
END:DAYLIGHT
BEGIN:STANDARD
TZOFFSETFROM:+0100
TZOFFSETTO:+0000
TZNAME:GMT
DTSTART:20251026T010000
END:STANDARD
END:VTIMEZONE
BEGIN:VEVENT
DTSTART;TZID=Europe/London:20241125T090000
DTEND;TZID=Europe/London:20241129T170000
DTSTAMP:20260424T053942
CREATED:20240726T102906Z
LAST-MODIFIED:20240726T102920Z
UID:1120-1732525200-1732899600@www.globalmarinainstitute.net
SUMMARY:Advanced Marina Manager Course
DESCRIPTION:British Marine\, in association with the Global Marina Institute (GMI)\, presents the internationally renowned Advanced Marina Management (AMM) School. \nThe AMM course has been designed as a pathway towards Certified Marina Manager (CMM) and Certified Marina Professional (CMP) Certification. \nEach day is packed with a range of learning opportunities\, including formal classes and lectures\, informal discussions\, a field trip to nearby marinas\, group projects\, marina/boatyard industry networking and evening classes and discussions. \nPlaces will be strictly limited\, so early registration is advised.  To ensure a wide mix of delegates\, no more than two people from the same marina organisation can attend the course.  The course will be taught in English. \nApplicants must have a minimum of three years’ relevant management experience. British Marine will assess the application against this requirement. \nPlease contact Kitty- kjudd@britishmarine.co.uk for more information.
URL:https://www.globalmarinainstitute.net/event/advanced-marina-manager-course-2/
LOCATION:Dubai\, UAE\, Dubai\, United Arab Emirates
ATTACH;FMTTYPE=image/jpeg:https://www.globalmarinainstitute.net/wp-content/uploads/2022/03/dubai-marina.jpg
END:VEVENT
END:VCALENDAR