BEGIN:VCALENDAR
VERSION:2.0
PRODID:-//Global Marina Institute - ECPv6.15.15//NONSGML v1.0//EN
CALSCALE:GREGORIAN
METHOD:PUBLISH
X-WR-CALNAME:Global Marina Institute
X-ORIGINAL-URL:https://www.globalmarinainstitute.net
X-WR-CALDESC:Events for Global Marina Institute
REFRESH-INTERVAL;VALUE=DURATION:PT1H
X-Robots-Tag:noindex
X-PUBLISHED-TTL:PT1H
BEGIN:VTIMEZONE
TZID:Europe/London
BEGIN:DAYLIGHT
TZOFFSETFROM:+0000
TZOFFSETTO:+0100
TZNAME:BST
DTSTART:20240331T010000
END:DAYLIGHT
BEGIN:STANDARD
TZOFFSETFROM:+0100
TZOFFSETTO:+0000
TZNAME:GMT
DTSTART:20241027T010000
END:STANDARD
BEGIN:DAYLIGHT
TZOFFSETFROM:+0000
TZOFFSETTO:+0100
TZNAME:BST
DTSTART:20250330T010000
END:DAYLIGHT
BEGIN:STANDARD
TZOFFSETFROM:+0100
TZOFFSETTO:+0000
TZNAME:GMT
DTSTART:20251026T010000
END:STANDARD
BEGIN:DAYLIGHT
TZOFFSETFROM:+0000
TZOFFSETTO:+0100
TZNAME:BST
DTSTART:20260329T010000
END:DAYLIGHT
BEGIN:STANDARD
TZOFFSETFROM:+0100
TZOFFSETTO:+0000
TZNAME:GMT
DTSTART:20261025T010000
END:STANDARD
END:VTIMEZONE
BEGIN:VEVENT
DTSTART;TZID=Europe/London:20251011T090000
DTEND;TZID=Europe/London:20251015T180000
DTSTAMP:20260423T113452
CREATED:20250205T121812Z
LAST-MODIFIED:20250205T121907Z
UID:1417-1760173200-1760551200@www.globalmarinainstitute.net
SUMMARY:Advanced Marina Management Course (AMM) Venice\, Italy 11-15 October 2025
DESCRIPTION:The Global Marina Institute (GMI)\, a partnership between British Marine and Marina Industries Association\, presents the internationally renowned Advanced Marina Management Course.\nThe AMM course has been designed as the next step in the pathway towards Certified Marina Manager (CMM) and Certified Marina Professional (CMP) certification.\nThis is a five day course packed with a range of opportunities and learning building on the learning from the IMM. Again\, this course includes classroom learning\, a field trip to nearby marinas\, group project\, networking event and industry leaders delivering sessions.\nApplicants must have a minimum of three years’ relevant managerial experience.\nMore information on this course coming soon.
URL:https://www.globalmarinainstitute.net/event/advanced-marina-management-course-amm-venice-italy-11-15-october-2025/
LOCATION:Venice\, Italy
CATEGORIES:Advanced Marina Managers Course
ATTACH;FMTTYPE=image/jpeg:https://www.globalmarinainstitute.net/wp-content/uploads/2025/02/karsten-wurth-uZt8wD1rgeo-unsplash.jpg
END:VEVENT
END:VCALENDAR