BEGIN:VCALENDAR
VERSION:2.0
PRODID:-//Global Marina Institute - ECPv6.15.15//NONSGML v1.0//EN
CALSCALE:GREGORIAN
METHOD:PUBLISH
X-ORIGINAL-URL:https://www.globalmarinainstitute.net
X-WR-CALDESC:Events for Global Marina Institute
REFRESH-INTERVAL;VALUE=DURATION:PT1H
X-Robots-Tag:noindex
X-PUBLISHED-TTL:PT1H
BEGIN:VTIMEZONE
TZID:Europe/London
BEGIN:DAYLIGHT
TZOFFSETFROM:+0000
TZOFFSETTO:+0100
TZNAME:BST
DTSTART:20220327T010000
END:DAYLIGHT
BEGIN:STANDARD
TZOFFSETFROM:+0100
TZOFFSETTO:+0000
TZNAME:GMT
DTSTART:20221030T010000
END:STANDARD
BEGIN:DAYLIGHT
TZOFFSETFROM:+0000
TZOFFSETTO:+0100
TZNAME:BST
DTSTART:20230326T010000
END:DAYLIGHT
BEGIN:STANDARD
TZOFFSETFROM:+0100
TZOFFSETTO:+0000
TZNAME:GMT
DTSTART:20231029T010000
END:STANDARD
BEGIN:DAYLIGHT
TZOFFSETFROM:+0000
TZOFFSETTO:+0100
TZNAME:BST
DTSTART:20240331T010000
END:DAYLIGHT
BEGIN:STANDARD
TZOFFSETFROM:+0100
TZOFFSETTO:+0000
TZNAME:GMT
DTSTART:20241027T010000
END:STANDARD
BEGIN:DAYLIGHT
TZOFFSETFROM:+0000
TZOFFSETTO:+0100
TZNAME:BST
DTSTART:20250330T010000
END:DAYLIGHT
BEGIN:STANDARD
TZOFFSETFROM:+0100
TZOFFSETTO:+0000
TZNAME:GMT
DTSTART:20251026T010000
END:STANDARD
BEGIN:DAYLIGHT
TZOFFSETFROM:+0000
TZOFFSETTO:+0100
TZNAME:BST
DTSTART:20260329T010000
END:DAYLIGHT
BEGIN:STANDARD
TZOFFSETFROM:+0100
TZOFFSETTO:+0000
TZNAME:GMT
DTSTART:20261025T010000
END:STANDARD
END:VTIMEZONE
BEGIN:VTIMEZONE
TZID:Australia/Sydney
BEGIN:STANDARD
TZOFFSETFROM:+1100
TZOFFSETTO:+1000
TZNAME:AEST
DTSTART:20230401T160000
END:STANDARD
BEGIN:DAYLIGHT
TZOFFSETFROM:+1000
TZOFFSETTO:+1100
TZNAME:AEDT
DTSTART:20230930T160000
END:DAYLIGHT
BEGIN:STANDARD
TZOFFSETFROM:+1100
TZOFFSETTO:+1000
TZNAME:AEST
DTSTART:20240406T160000
END:STANDARD
BEGIN:DAYLIGHT
TZOFFSETFROM:+1000
TZOFFSETTO:+1100
TZNAME:AEDT
DTSTART:20241005T160000
END:DAYLIGHT
BEGIN:STANDARD
TZOFFSETFROM:+1100
TZOFFSETTO:+1000
TZNAME:AEST
DTSTART:20250405T160000
END:STANDARD
BEGIN:DAYLIGHT
TZOFFSETFROM:+1000
TZOFFSETTO:+1100
TZNAME:AEDT
DTSTART:20251004T160000
END:DAYLIGHT
END:VTIMEZONE
BEGIN:VEVENT
DTSTART;TZID=Europe/London:20251117T090000
DTEND;TZID=Europe/London:20251121T180000
DTSTAMP:20260423T022341
CREATED:20250205T122822Z
LAST-MODIFIED:20250205T122822Z
UID:1425-1763370000-1763748000@www.globalmarinainstitute.net
SUMMARY:Advanced Marina Management Course (AMM)\, Abu Dhabi\, UAE 17-21 November 2025
DESCRIPTION:The Global Marina Institute (GMI)\, a partnership between British Marine and Marina Industries Association\, presents the internationally renowned Advanced Marina Management Course.\nThe AMM course has been designed as the next step in the pathway towards Certified Marina Manager (CMM) and Certified Marina Professional (CMP) certification.\nThis is a five day course packed with a range of opportunities and learning building on the learning from the IMM. Again\, this course includes classroom learning\, a field trip to nearby marinas\, group project\, networking event and industry leaders delivering sessions.\nApplicants must have a minimum of three years’ relevant managerial experience.\nMore information on this course coming soon.
URL:https://www.globalmarinainstitute.net/event/advanced-marina-management-course-amm-abu-dhabi-uae-17-21-november-2025/
LOCATION:Abu Dhabi\, Abu Dhabi\, United Arab Emirates
CATEGORIES:Advanced Marina Managers Course
ATTACH;FMTTYPE=image/jpeg:https://www.globalmarinainstitute.net/wp-content/uploads/2024/09/Coral-Sea-Marina-March-2023.jpg
END:VEVENT
BEGIN:VEVENT
DTSTART;TZID=Europe/London:20251026T090000
DTEND;TZID=Europe/London:20251029T180000
DTSTAMP:20260423T022341
CREATED:20250205T122617Z
LAST-MODIFIED:20250228T101507Z
UID:1421-1761469200-1761760800@www.globalmarinainstitute.net
SUMMARY:Intermediate Marina Management Course (IMM) Saudi Arabia\, UAE 26-29 October 2025
DESCRIPTION:The Global Marina Institute (GMI)\, a partnership between British Marine and Marina Industries Association\, presents the internationally renowned Intermediate Marina Management Course.\nThe IMM course has been designed as the first step in the pathway towards Certified Marina Manager (CMM) and Certified Marina Professional (CMP) certification.\nThis is a four day course packed with a range of opportunities and learning. Again\, this course includes classroom learning\, a field trip to nearby marinas\, group project\, networking event and industry leaders delivering sessions.\nApplicants must have a minimum of three years’ relevant managerial experience.\nMore details on this course coming soon.
URL:https://www.globalmarinainstitute.net/event/advanced-marina-management-course-amm-saudi-arabia-uae-26-29-october-2025/
LOCATION:Saudi Arabia\, Saudi Arabia
CATEGORIES:Advanced Marina Managers Course
ATTACH;FMTTYPE=image/jpeg:https://www.globalmarinainstitute.net/wp-content/uploads/2025/02/IMG_6309.jpg
END:VEVENT
BEGIN:VEVENT
DTSTART;TZID=Europe/London:20251011T090000
DTEND;TZID=Europe/London:20251015T180000
DTSTAMP:20260423T022341
CREATED:20250205T121812Z
LAST-MODIFIED:20250205T121907Z
UID:1417-1760173200-1760551200@www.globalmarinainstitute.net
SUMMARY:Advanced Marina Management Course (AMM) Venice\, Italy 11-15 October 2025
DESCRIPTION:The Global Marina Institute (GMI)\, a partnership between British Marine and Marina Industries Association\, presents the internationally renowned Advanced Marina Management Course.\nThe AMM course has been designed as the next step in the pathway towards Certified Marina Manager (CMM) and Certified Marina Professional (CMP) certification.\nThis is a five day course packed with a range of opportunities and learning building on the learning from the IMM. Again\, this course includes classroom learning\, a field trip to nearby marinas\, group project\, networking event and industry leaders delivering sessions.\nApplicants must have a minimum of three years’ relevant managerial experience.\nMore information on this course coming soon.
URL:https://www.globalmarinainstitute.net/event/advanced-marina-management-course-amm-venice-italy-11-15-october-2025/
LOCATION:Venice\, Italy
CATEGORIES:Advanced Marina Managers Course
ATTACH;FMTTYPE=image/jpeg:https://www.globalmarinainstitute.net/wp-content/uploads/2025/02/karsten-wurth-uZt8wD1rgeo-unsplash.jpg
END:VEVENT
BEGIN:VEVENT
DTSTART;TZID=Europe/London:20250915T090000
DTEND;TZID=Europe/London:20250919T180000
DTSTAMP:20260423T022341
CREATED:20250205T120954Z
LAST-MODIFIED:20250205T123159Z
UID:1411-1757926800-1758304800@www.globalmarinainstitute.net
SUMMARY:Advanced Marina Management Course (AMM) Southampton\, UK\, 15-19 September 2025
DESCRIPTION:The Global Marina Institute (GMI)\, a partnership between British Marine and Marina Industries Association\, presents the internationally renowned Advanced Marina Management Course.\nThe AMM course has been designed as the next step in the pathway towards Certified Marina Manager (CMM) and Certified Marina Professional (CMP) certification.\nThis is a five day course packed with a range of opportunities and learning building on the learning from the IMM. Again\, this course includes classroom learning\, a field trip to nearby marinas\, group project\, networking event and industry leaders delivering sessions.\nApplicants must have a minimum of three years’ relevant managerial experience.\nMore information on this course coming soon.
URL:https://www.globalmarinainstitute.net/event/advanced-marina-management-course-amm-southampton-uk-15-19-september-2025/
LOCATION:Southampton
CATEGORIES:Advanced Marina Managers Course
ATTACH;FMTTYPE=image/jpeg:https://www.globalmarinainstitute.net/wp-content/uploads/2025/02/SIBS_drone_shot.jpg
END:VEVENT
BEGIN:VEVENT
DTSTART;TZID=Europe/London:20250831T080000
DTEND;TZID=Europe/London:20250905T170000
DTSTAMP:20260423T022341
CREATED:20241107T235747Z
LAST-MODIFIED:20241107T235953Z
UID:1343-1756627200-1757091600@www.globalmarinainstitute.net
SUMMARY:Advanced Marina Management (AMM) Course\, Auckland\, NZ 31-5 Sept 2025
DESCRIPTION:The Advanced Marina Management (AMM) course is a profit-management training course designed for senior marina professionals. The course is internationally recognised and offered in conjunction with the Global Marina Institute. The AMM course offers its graduates both a national and international business perspective on management issues\, and a long-term network of international contacts to rely on in the future \nThe course goes beyond the basics to teach the forefront of marina management best practices. The Marin Training Institute (MTI)\, carefully screens applicants to ensure that participants create a well-balanced peer group that will share knowledge and experience equally. The AMM course is endorsed by ICOMIA\, the International Council of Marine Industries Associations. \nCourse Content\nThe AMM course examines the following topics: \n\nEnvironmental Management\nCustomer Retention and the Customer Experience\nCapital Budgeting\nConflict Management\nMarina Design and Construction\nStrategic Planning\nManaging Tenants\n\nDuring the course\, participants engage in: \n\nBest Profit Ideas\nGroup Problem Solving\nStudent Presentations\nInteractive Workshops\nMarina Site Visits\nGroup Project\n\nAs part of the course\, participants will complete a capstone project\, a major component of the AMM course. Participants will develop a master plan based on a marina they will inspect with fellow participants. This project requires the participants to integrate design\, marketing\, financial\, marina operation and strategic planning skills. \nBenefits/Learning Outcomes\n\nThe course is internationally recognised and presented in conjunction with the Global Marina Institute\nExposure to new ways of dealing with issues and challenges\nLectures by leading experts\nLearn about policies and practices that have been successful in other regions of the world\nEstablish a long lasting network of contacts in the industry\nAn essential course which meets one of the requirements to becoming a Certified Marina Professional (CMO)\, Certified Marina Manager (CMM) or Certified Marina Professional (CMP)\n\nPrerequisites\nYou must have completed the Intermediate Marina Management Course. Have 3 years experience as a marina manager working on-site in a marina OR 3 years working onsite in a marina in a supervisory/other management position. OR 5 years in a leadership position in a marina affiliated company \nPlaces are strictly limited \nNote: Those following the CMP career pathway with 10 years or more senior management or leadership experience within the Marina affiliated industries; may be eligible to apply to the AMM directly. \nCourse Cost:\nMIA Members only: AUD $5\,450 (exc. GST) \nMIA Non-Members: AUD $7\,450 (exc. GST) \nThis is a residential course. There is no non-residential option. Fees include course fee\, course materials\, accommodation for 5 nights of morning and afternoon teas\, lunches\, welcome drinks\, 2 x dinners and a field trip. \nTo book your place\, please contact: \nLily Peel\nTraining & Development Coordinator\nEmail: education@marinas.net.au\nTel: +61 (2) 9439 5806
URL:https://www.globalmarinainstitute.net/event/advanced-marina-management-amm-course-31-aug-5-sept-2025/
LOCATION:Auckland\, New Zealand
CATEGORIES:Advanced Marina Managers Course
ATTACH;FMTTYPE=image/jpeg:https://www.globalmarinainstitute.net/wp-content/uploads/2024/11/westhaven-scaled.jpg
END:VEVENT
BEGIN:VEVENT
DTSTART;VALUE=DATE:20240818
DTEND;VALUE=DATE:20240824
DTSTAMP:20260423T022341
CREATED:20231107T052556Z
LAST-MODIFIED:20231107T052556Z
UID:1012-1723939200-1724457599@www.globalmarinainstitute.net
SUMMARY:AMM - Advanced Marina Management Course\, SE Queensland\, Australia 18-23 August 2024
DESCRIPTION:The Advanced Marina Management (AMM) program is a profit-management training course designed for senior marina professionals. The course is internationally recognised and offered in conjunction with the Global Marina Institute. The AMM course offers its graduates both a national and international business perspective on management issues\, and a long-term network of international contacts to rely on in the future\n\n\n\nThe course goes beyond the basics to teach the forefront of marina management best practices. The Marin Training Institute (MTI)\, carefully screens applicants to ensure that participants create a well-balanced peer group that will share knowledge and experience equally. The AMM course is endorsed by ICOMIA\, the International Council of Marine Industries Associations.\n\n\n\nCourse Content\nThe AMM course examines the following topics: \n  \n\nEnvironmental Management\nCustomer Retention and the Customer Experience\nCapital Budgeting\nConflict Management\nMarina Design and Construction\nStrategic Planning\nManaging Tenants\n\nDuring the course\, participants engage in: \n\nBest Profit Ideas\nGroup Problem Solving\nStudent Presentations\nInteractive Workshops\nMarina Site Visits\nGroup Project\n\nAs part of the course\, participants will complete a capstone project\, a major component of the AMM course. Participants will develop a master plan based on a marina they will inspect with fellow participants. This project requires the participants to integrate design\, marketing\, financial\, marina operation and strategic planning skills. \nBenefits/Learning Outcomes\n\n\n\n\n\n\n\n\nThe course is internationally recognised and presented in conjunction with the Global Marina Institute\nExposure to new ways of dealing with issues and challenges\nLectures by leading experts\nLearn about policies and practices that have been successful in other regions of the world\nEstablish a long lasting network of contacts in the industry\nAn essential course which meets one of the requirements to becoming a Certified Marina Professional (CMO)\, Certified Marina Manager (CMM) or Certified Marina Professional (CMP)\n\n\n\n\n\n\n\nPrerequisites\n\nYou must have completed the Intermediate Marina Management Course\n3 years experience as a marina manager working on-site in a marina OR 3 years working onsite in a marina in a supervisory/other management position. OR 5 years in a leadership position in a marina affiliated company\nPlaces are strictly limited\n\nNote: Those following the CMP career pathway with 10 years or more senior management or leadership experience within the Marina affiliated industries; may be eligible to apply to the AMM directly. \nCourse Cost:\n\nMIA Members only: AUD $4\,950 (exc. GST)\nMIA Non-Members: AUD $6\,990 (exc. GST)\n\nThis is a residential course. There is no non-residential option. \nFees include course fee\, course materials\, accommodation for 5 nights of morning and afternoon teas\, lunches\, welcome drinks\, 2 x dinners and a field trip. \nTo book your place\, please contact:\nAngela Mork \nTraining & Development Coordinator\nEmail: education@marinas.net.au\nTel: +61 (2) 9439 5806 \nWeb: https://www.marinas.net.au/
URL:https://www.globalmarinainstitute.net/event/amm-advanced-marina-management-course-se-queensland-australia-18-23-august-2024/
CATEGORIES:Advanced Marina Managers Course
END:VEVENT
BEGIN:VEVENT
DTSTART;TZID=Europe/London:20240205T090000
DTEND;TZID=Europe/London:20240209T143000
DTSTAMP:20260423T022341
CREATED:20230125T111252Z
LAST-MODIFIED:20231220T135917Z
UID:967-1707123600-1707489000@www.globalmarinainstitute.net
SUMMARY:AMM- Advanced Marina Managers Course\, 5th-9th February 2024 ICC Wales\, U.K
DESCRIPTION:British Marine\, in association with the Global Marina Institute (GMI)\, presents the internationally renowned Advanced Marina Management (AMM) School. \nThe AMM course has been designed as a pathway towards Certified Marina Manager (CMM) and Certified Marina Professional (CMP) Certification. \nEach day is packed with a range of learning opportunities\, including formal classes and lectures\, informal discussions\, field trip to nearby marinas\, group projects\, marina/boatyard industry networking and evening classes and discussions. \nPlaces will be strictly limited\, so early registration is advised.  To ensure a wide mix of delegates\, no more than two people from the same marina organisation can attend the course.  The course will be taught in English. \nApplicants must have a minimum of three years’ relevant management experience. British Marine will assess the application against this requirement. \nFor pricing and booking form\, please email Kitty at kjudd@britishmarine.co.uk
URL:https://www.globalmarinainstitute.net/event/amm-advanced-marina-managers-course-30th-october-3rd-november-2023-abu-dhabi/
CATEGORIES:Advanced Marina Managers Course
END:VEVENT
BEGIN:VEVENT
DTSTART;TZID=Europe/London:20231030T090000
DTEND;TZID=Europe/London:20231103T140000
DTSTAMP:20260423T022341
CREATED:20230905T114308Z
LAST-MODIFIED:20230905T114308Z
UID:990-1698656400-1699020000@www.globalmarinainstitute.net
SUMMARY:AMM- Advanced Marina Managers Course\, 30th October -3rd November 2023 Abu Dhabi
DESCRIPTION:British Marine\, in association with the Global Marina Institute (GMI)\, presents the internationally renowned Advanced Marina Management (AMM) School. \nThe AMM course has been designed as a pathway towards Certified Marina Manager (CMM) and Certified Marina Professional (CMP) Certification. \nEach day is packed with a range of learning opportunities\, including formal classes and lectures\, informal discussions\, field trip to nearby marinas\, group projects\, marina/boatyard industry networking and evening classes and discussions. \nPlaces will be strictly limited\, so early registration is advised.  To ensure a wide mix of delegates\, no more than two people from the same marina organisation can attend the course.  The course will be taught in English. \nApplicants must have a minimum of three years’ relevant management experience. British Marine will assess the application against this requirement. \nFor pricing and booking form\, please email Kitty at kjudd@britishmarine.co.uk
URL:https://www.globalmarinainstitute.net/event/amm-advanced-marina-managers-course-30th-october-3rd-november-2023-abu-dhabi-2/
LOCATION:Abu Dhabi\, Abu Dhabi\, United Arab Emirates
CATEGORIES:Advanced Marina Managers Course
ATTACH;FMTTYPE=image/jpeg:https://www.globalmarinainstitute.net/wp-content/uploads/2023/01/Abu.jpg
END:VEVENT
END:VCALENDAR