BEGIN:VCALENDAR
VERSION:2.0
PRODID:-//Global Marina Institute - ECPv6.15.15//NONSGML v1.0//EN
CALSCALE:GREGORIAN
METHOD:PUBLISH
X-WR-CALNAME:Global Marina Institute
X-ORIGINAL-URL:https://www.globalmarinainstitute.net
X-WR-CALDESC:Events for Global Marina Institute
REFRESH-INTERVAL;VALUE=DURATION:PT1H
X-Robots-Tag:noindex
X-PUBLISHED-TTL:PT1H
BEGIN:VTIMEZONE
TZID:Europe/London
BEGIN:DAYLIGHT
TZOFFSETFROM:+0000
TZOFFSETTO:+0100
TZNAME:BST
DTSTART:20240331T010000
END:DAYLIGHT
BEGIN:STANDARD
TZOFFSETFROM:+0100
TZOFFSETTO:+0000
TZNAME:GMT
DTSTART:20241027T010000
END:STANDARD
BEGIN:DAYLIGHT
TZOFFSETFROM:+0000
TZOFFSETTO:+0100
TZNAME:BST
DTSTART:20250330T010000
END:DAYLIGHT
BEGIN:STANDARD
TZOFFSETFROM:+0100
TZOFFSETTO:+0000
TZNAME:GMT
DTSTART:20251026T010000
END:STANDARD
BEGIN:DAYLIGHT
TZOFFSETFROM:+0000
TZOFFSETTO:+0100
TZNAME:BST
DTSTART:20260329T010000
END:DAYLIGHT
BEGIN:STANDARD
TZOFFSETFROM:+0100
TZOFFSETTO:+0000
TZNAME:GMT
DTSTART:20261025T010000
END:STANDARD
END:VTIMEZONE
BEGIN:VEVENT
DTSTART;TZID=Europe/London:20250831T080000
DTEND;TZID=Europe/London:20250905T170000
DTSTAMP:20260423T062340
CREATED:20241107T235747Z
LAST-MODIFIED:20241107T235953Z
UID:1343-1756627200-1757091600@www.globalmarinainstitute.net
SUMMARY:Advanced Marina Management (AMM) Course\, Auckland\, NZ 31-5 Sept 2025
DESCRIPTION:The Advanced Marina Management (AMM) course is a profit-management training course designed for senior marina professionals. The course is internationally recognised and offered in conjunction with the Global Marina Institute. The AMM course offers its graduates both a national and international business perspective on management issues\, and a long-term network of international contacts to rely on in the future \nThe course goes beyond the basics to teach the forefront of marina management best practices. The Marin Training Institute (MTI)\, carefully screens applicants to ensure that participants create a well-balanced peer group that will share knowledge and experience equally. The AMM course is endorsed by ICOMIA\, the International Council of Marine Industries Associations. \nCourse Content\nThe AMM course examines the following topics: \n\nEnvironmental Management\nCustomer Retention and the Customer Experience\nCapital Budgeting\nConflict Management\nMarina Design and Construction\nStrategic Planning\nManaging Tenants\n\nDuring the course\, participants engage in: \n\nBest Profit Ideas\nGroup Problem Solving\nStudent Presentations\nInteractive Workshops\nMarina Site Visits\nGroup Project\n\nAs part of the course\, participants will complete a capstone project\, a major component of the AMM course. Participants will develop a master plan based on a marina they will inspect with fellow participants. This project requires the participants to integrate design\, marketing\, financial\, marina operation and strategic planning skills. \nBenefits/Learning Outcomes\n\nThe course is internationally recognised and presented in conjunction with the Global Marina Institute\nExposure to new ways of dealing with issues and challenges\nLectures by leading experts\nLearn about policies and practices that have been successful in other regions of the world\nEstablish a long lasting network of contacts in the industry\nAn essential course which meets one of the requirements to becoming a Certified Marina Professional (CMO)\, Certified Marina Manager (CMM) or Certified Marina Professional (CMP)\n\nPrerequisites\nYou must have completed the Intermediate Marina Management Course. Have 3 years experience as a marina manager working on-site in a marina OR 3 years working onsite in a marina in a supervisory/other management position. OR 5 years in a leadership position in a marina affiliated company \nPlaces are strictly limited \nNote: Those following the CMP career pathway with 10 years or more senior management or leadership experience within the Marina affiliated industries; may be eligible to apply to the AMM directly. \nCourse Cost:\nMIA Members only: AUD $5\,450 (exc. GST) \nMIA Non-Members: AUD $7\,450 (exc. GST) \nThis is a residential course. There is no non-residential option. Fees include course fee\, course materials\, accommodation for 5 nights of morning and afternoon teas\, lunches\, welcome drinks\, 2 x dinners and a field trip. \nTo book your place\, please contact: \nLily Peel\nTraining & Development Coordinator\nEmail: education@marinas.net.au\nTel: +61 (2) 9439 5806
URL:https://www.globalmarinainstitute.net/event/advanced-marina-management-amm-course-31-aug-5-sept-2025/
LOCATION:Auckland\, New Zealand
CATEGORIES:Advanced Marina Managers Course
ATTACH;FMTTYPE=image/jpeg:https://www.globalmarinainstitute.net/wp-content/uploads/2024/11/westhaven-scaled.jpg
END:VEVENT
END:VCALENDAR