BEGIN:VCALENDAR
VERSION:2.0
PRODID:-//Global Marina Institute - ECPv6.15.15//NONSGML v1.0//EN
CALSCALE:GREGORIAN
METHOD:PUBLISH
X-WR-CALNAME:Global Marina Institute
X-ORIGINAL-URL:https://www.globalmarinainstitute.net
X-WR-CALDESC:Events for Global Marina Institute
REFRESH-INTERVAL;VALUE=DURATION:PT1H
X-Robots-Tag:noindex
X-PUBLISHED-TTL:PT1H
BEGIN:VTIMEZONE
TZID:Europe/London
BEGIN:DAYLIGHT
TZOFFSETFROM:+0000
TZOFFSETTO:+0100
TZNAME:BST
DTSTART:20230326T010000
END:DAYLIGHT
BEGIN:STANDARD
TZOFFSETFROM:+0100
TZOFFSETTO:+0000
TZNAME:GMT
DTSTART:20231029T010000
END:STANDARD
BEGIN:DAYLIGHT
TZOFFSETFROM:+0000
TZOFFSETTO:+0100
TZNAME:BST
DTSTART:20240331T010000
END:DAYLIGHT
BEGIN:STANDARD
TZOFFSETFROM:+0100
TZOFFSETTO:+0000
TZNAME:GMT
DTSTART:20241027T010000
END:STANDARD
BEGIN:DAYLIGHT
TZOFFSETFROM:+0000
TZOFFSETTO:+0100
TZNAME:BST
DTSTART:20250330T010000
END:DAYLIGHT
BEGIN:STANDARD
TZOFFSETFROM:+0100
TZOFFSETTO:+0000
TZNAME:GMT
DTSTART:20251026T010000
END:STANDARD
END:VTIMEZONE
BEGIN:VEVENT
DTSTART;TZID=Europe/London:20241021T090000
DTEND;TZID=Europe/London:20241024T170000
DTSTAMP:20260423T080706
CREATED:20240422T132259Z
LAST-MODIFIED:20240729T125532Z
UID:1037-1729501200-1729789200@www.globalmarinainstitute.net
SUMMARY:Intermediate Marina Manager Course
DESCRIPTION:This four-day course is accredited by the Global Marina Institute (GMI) and is designed to provide marina personnel in a leadership position with fast-track training in the critical issues in marinas. It is also an essential course in a career path leading to the globally recognised Certified Marina Manager (CMM)\, Certified Marina Operator and Certified Marina Professional (CMP) qualifications. \nThe course is aimed at managers\, supervisors and foremen who have had at least one full year of experience working at this level. \nMarina industry professionals and Certified Marina Managers will share their expertise and knowledge on a wide variety of topics including: \n\nLeadership Development\,\nHealth\, Safety & Emergency Management\,\nBudgeting & Accounting\,\nEnvironmental Management\,\nCustomer Service and Marketing.\n\nEach day is packed with a range of learning opportunities\, including formal classes and lectures\, informal discussions\, field trip to nearby marinas\, group projects\, and marina/boatyard industry networking. \nPlease contact Kitty- kjudd@britishmarine.co.uk for more information
URL:https://www.globalmarinainstitute.net/event/intermediate-marina-manager-course/
LOCATION:South Coast\, UK\, United Kingdom
ATTACH;FMTTYPE=image/jpeg:https://www.globalmarinainstitute.net/wp-content/uploads/2020/09/3007852_640.jpg
END:VEVENT
END:VCALENDAR