BEGIN:VCALENDAR
VERSION:2.0
PRODID:-//Global Marina Institute - ECPv6.15.15//NONSGML v1.0//EN
CALSCALE:GREGORIAN
METHOD:PUBLISH
X-ORIGINAL-URL:https://www.globalmarinainstitute.net
X-WR-CALDESC:Events for Global Marina Institute
REFRESH-INTERVAL;VALUE=DURATION:PT1H
X-Robots-Tag:noindex
X-PUBLISHED-TTL:PT1H
BEGIN:VTIMEZONE
TZID:Europe/London
BEGIN:DAYLIGHT
TZOFFSETFROM:+0000
TZOFFSETTO:+0100
TZNAME:BST
DTSTART:20240331T010000
END:DAYLIGHT
BEGIN:STANDARD
TZOFFSETFROM:+0100
TZOFFSETTO:+0000
TZNAME:GMT
DTSTART:20241027T010000
END:STANDARD
BEGIN:DAYLIGHT
TZOFFSETFROM:+0000
TZOFFSETTO:+0100
TZNAME:BST
DTSTART:20250330T010000
END:DAYLIGHT
BEGIN:STANDARD
TZOFFSETFROM:+0100
TZOFFSETTO:+0000
TZNAME:GMT
DTSTART:20251026T010000
END:STANDARD
BEGIN:DAYLIGHT
TZOFFSETFROM:+0000
TZOFFSETTO:+0100
TZNAME:BST
DTSTART:20260329T010000
END:DAYLIGHT
BEGIN:STANDARD
TZOFFSETFROM:+0100
TZOFFSETTO:+0000
TZNAME:GMT
DTSTART:20261025T010000
END:STANDARD
END:VTIMEZONE
BEGIN:VEVENT
DTSTART;TZID=Europe/London:20250727T080000
DTEND;TZID=Europe/London:20250731T180000
DTSTAMP:20260423T062340
CREATED:20241106T233303Z
LAST-MODIFIED:20241107T020604Z
UID:1336-1753603200-1753984800@www.globalmarinainstitute.net
SUMMARY:Intermediate Marina Managers (IMM) Course\, Sydney\, Australia\, 27–31 July 2025
DESCRIPTION:The Marina Industries Association (MIA) are holding the internationally renowned Intermediate Marina Management Course (IMM) in the beautiful city of Sydney\, Australia. \nThis intensive four and a half day course is designed for managers and supervisors who have had at least one full year of experience working at this level. It focuses on marina operations\, policies and it exposes participants to innovative ways of dealing with issues and challenges\, providing development through collaborative engagement and guidance. Providing marina personnel in a leadership position with fast-track training in the critical issues in marinas. \nThe course is the first step in a career path leading to the globally recognised professional certification (CMO\, CMM\, CMP). \nMarina industry professionals\, consultants and Certified Marina Managers share their expertise and knowledge on: \n\nEmergency Management\nEnvironmental Management\nMarine Insurance and Legal Issues\nHealth and Safety\nHuman Resources and Marketing\nLeadership Management\nMarina Industry in the Future\nMarina Site Inspection\n\nBenefits & Learning Outcomes\n\nLectures by leading experts and industry guest speakers who share their experiences\nInformal roundtable discussions and group work\nIncreased marina efficiency and profits\nField trip to inspect and critique nearby marinas\nFire and emergency response planning skills\nEffective leadership and personal management\nNetworking with peers and colleagues from Australia and overseas\nInnovative ways of dealing with industry challenges\n\nThis course prepares marina managers to manage and develop their marina in line with industry recognised best practice management methodologies. \nPre-requisite Experience: 1 year experience as a marina manager or in a supervisory position\, 50+ berths. Or 3 years in a leadership position in a marina-affiliated company. \nEach day is packed with a range of learning opportunities\, including formal classes and lectures\, informal discussions\, a field trip to nearby marinas\, group projects and marina/boatyard industry networking. \nCourse Fees\nThis is a residential course. \n\nMIA Members: AUD $3850 per person (+GST)\nNon-MIA Members: AUD $5095 per person (+GST)\n\nFees include: 4 nights accommodation\, course folder\, learning materials\, resources and presentation\, breakfasts\, morning and afternoon teas\, lunches\, welcome drinks\, 2 x evening dinners\, and a marina tour. \n* Please note that Australian companies will be charged GST in addition to this amount. \nTo book your place\, please contact: \nLily Peel\nTraining and Development Coordinator \nMarina Industries Association\nTel: +61 (0) 400 955 827\nEmail: education@marinas.net.au\nWeb: https://www.marinas.net.au/
URL:https://www.globalmarinainstitute.net/event/imm-intermediate-marina-managers-course-sydney-australia-27-31-july-2025/
LOCATION:Sydney\, Sydney\, NSW\, 2000\, Australia
ATTACH;FMTTYPE=image/jpeg:https://www.globalmarinainstitute.net/wp-content/uploads/2024/11/nicola-j-walker-yA9Vvw0ubLI-unsplash-scaled.jpg
END:VEVENT
END:VCALENDAR