BEGIN:VCALENDAR
VERSION:2.0
PRODID:-//Global Marina Institute - ECPv6.15.15//NONSGML v1.0//EN
CALSCALE:GREGORIAN
METHOD:PUBLISH
X-WR-CALNAME:Global Marina Institute
X-ORIGINAL-URL:https://www.globalmarinainstitute.net
X-WR-CALDESC:Events for Global Marina Institute
REFRESH-INTERVAL;VALUE=DURATION:PT1H
X-Robots-Tag:noindex
X-PUBLISHED-TTL:PT1H
BEGIN:VTIMEZONE
TZID:Europe/London
BEGIN:DAYLIGHT
TZOFFSETFROM:+0000
TZOFFSETTO:+0100
TZNAME:BST
DTSTART:20230326T010000
END:DAYLIGHT
BEGIN:STANDARD
TZOFFSETFROM:+0100
TZOFFSETTO:+0000
TZNAME:GMT
DTSTART:20231029T010000
END:STANDARD
BEGIN:DAYLIGHT
TZOFFSETFROM:+0000
TZOFFSETTO:+0100
TZNAME:BST
DTSTART:20240331T010000
END:DAYLIGHT
BEGIN:STANDARD
TZOFFSETFROM:+0100
TZOFFSETTO:+0000
TZNAME:GMT
DTSTART:20241027T010000
END:STANDARD
BEGIN:DAYLIGHT
TZOFFSETFROM:+0000
TZOFFSETTO:+0100
TZNAME:BST
DTSTART:20250330T010000
END:DAYLIGHT
BEGIN:STANDARD
TZOFFSETFROM:+0100
TZOFFSETTO:+0000
TZNAME:GMT
DTSTART:20251026T010000
END:STANDARD
END:VTIMEZONE
BEGIN:VEVENT
DTSTART;TZID=Europe/London:20240513T090000
DTEND;TZID=Europe/London:20240516T130000
DTSTAMP:20260423T003958
CREATED:20220310T134615Z
LAST-MODIFIED:20230905T114049Z
UID:919-1715590800-1715864400@www.globalmarinainstitute.net
SUMMARY:IMM - Intermediate Marina Managers Course\, Windsor\, United Kingdom 13th-16th May 2024
DESCRIPTION:British Marine are holding the internationally renowned Intermediate Marina Management Course (IMM) in the beautiful city of Athens. \nThis four-day course is designed to provide marina personnel in a leadership position with fast-track training in the critical issues in marinas. It is aimed at marina team leaders\, supervisors and dockmasters who have had at least one full year of experience working at this level. \nMarina industry professionals and Certified Marina Managers will share their expertise and knowledge on a wide variety of topics including: \n\nLeadership Development\nHealth & Safety / Emergency Management\nBudgeting and Accounting\nEnvironmental Management\nMaritime Law\nCustomer Service\nMarketing\n\nEach day is packed with a range of learning opportunities\, including formal classes and lectures\, informal discussions\, a field trip to nearby marinas\, group projects and marina/boatyard industry networking. \nThe cost of the Course is\, \nBritish Marine members- £1\,750 + VAT (£2\,100) \nFor overseas TYHA members- £2\,100 \nNon- British Marine members- £2\,215+VAT (£2\,658) \nNon-British Marine members (outside UK)- £2\,658 \nThis fee includes the course fee\, lunches\, 2 x course dinners\, accommodation\, course notes and a field trip to a local marina. \nTo book your place\, please contact: \nKitty Judd British Marine\nTel: +44 (0) 7923 250 650\nEmail: kjudd@britishmarine.co.uk
URL:https://www.globalmarinainstitute.net/event/intermediate-marina-managers-course/
LOCATION:Windsor\, United Kingdom
CATEGORIES:Intermediate Marina Management Course
ATTACH;FMTTYPE=image/jpeg:https://www.globalmarinainstitute.net/wp-content/uploads/2022/03/Windsor-marina.jpg
END:VEVENT
END:VCALENDAR